BEGIN:VCALENDAR
VERSION:2.0
PRODID:-//Down Syndrome Society of Wichita - ECPv6.15.20//NONSGML v1.0//EN
CALSCALE:GREGORIAN
METHOD:PUBLISH
X-WR-CALNAME:Down Syndrome Society of Wichita
X-ORIGINAL-URL:https://dsswichita.org
X-WR-CALDESC:Events for Down Syndrome Society of Wichita
REFRESH-INTERVAL;VALUE=DURATION:PT1H
X-Robots-Tag:noindex
X-PUBLISHED-TTL:PT1H
BEGIN:VTIMEZONE
TZID:UTC
BEGIN:STANDARD
TZOFFSETFROM:+0000
TZOFFSETTO:+0000
TZNAME:UTC
DTSTART:20240101T000000
END:STANDARD
END:VTIMEZONE
BEGIN:VEVENT
DTSTART;TZID=UTC:20250508T180000
DTEND;TZID=UTC:20250508T200000
DTSTAMP:20260419T144144
CREATED:20250424T214057Z
LAST-MODIFIED:20250424T214621Z
UID:10000118-1746727200-1746734400@dsswichita.org
SUMMARY:Mommy Mingle and Line Dancing
DESCRIPTION:Hey\, super moms and glamorous grandmas! We’ve got a treat for you. Get ready to kick up your heels and have a blast at our mommy mingle event. This isn’t just any mingle\, we’re going to learn line dancing! \nMark your calendars for Thursday\, May 8th. We’ll be dancing and laughing from 6-8pm and don’t worry about dinner\, we’ve got that covered\, too. \nThe best part? It’s absolutely free for all our DSSW moms and grandmas. So\, come on down\, enjoy a break from the kiddos and let’s have a toe-tapping good time together!
URL:https://dsswichita.org/event/moms25/
LOCATION:DSSW\, 734 S. Washington\, Wichita\, KS\, 67211\, United States
CATEGORIES:Connections,Programs
ORGANIZER;CN="Down Syndrome Society of Wichita":MAILTO:info@dsswichita.org
END:VEVENT
END:VCALENDAR