BEGIN:VCALENDAR
VERSION:2.0
PRODID:-//Down Syndrome Society of Wichita - ECPv6.15.20//NONSGML v1.0//EN
CALSCALE:GREGORIAN
METHOD:PUBLISH
X-ORIGINAL-URL:https://dsswichita.org
X-WR-CALDESC:Events for Down Syndrome Society of Wichita
REFRESH-INTERVAL;VALUE=DURATION:PT1H
X-Robots-Tag:noindex
X-PUBLISHED-TTL:PT1H
BEGIN:VTIMEZONE
TZID:UTC
BEGIN:STANDARD
TZOFFSETFROM:+0000
TZOFFSETTO:+0000
TZNAME:UTC
DTSTART:20240101T000000
END:STANDARD
END:VTIMEZONE
BEGIN:VEVENT
DTSTART;TZID=UTC:20250510T110000
DTEND;TZID=UTC:20250510T150000
DTSTAMP:20260419T144339
CREATED:20250219T021124Z
LAST-MODIFIED:20250219T021136Z
UID:10000117-1746874800-1746889200@dsswichita.org
SUMMARY:Poker Run 2025
DESCRIPTION:The Eagle Riders #3251 is back at it! Join this year’s Poker Run in support of the Down Syndrome Society of Wichita’s mission!
URL:https://dsswichita.org/event/pr25/
LOCATION:Fraternal Order of Eagles\, 1855 S. Sedgwick\, Wichita\, KS\, 67213\, United States
CATEGORIES:Fundraiser,Special Events
END:VEVENT
END:VCALENDAR