BEGIN:VCALENDAR
VERSION:2.0
PRODID:-//Down Syndrome Society of Wichita - ECPv6.15.20//NONSGML v1.0//EN
CALSCALE:GREGORIAN
METHOD:PUBLISH
X-WR-CALNAME:Down Syndrome Society of Wichita
X-ORIGINAL-URL:https://dsswichita.org
X-WR-CALDESC:Events for Down Syndrome Society of Wichita
REFRESH-INTERVAL;VALUE=DURATION:PT1H
X-Robots-Tag:noindex
X-PUBLISHED-TTL:PT1H
BEGIN:VTIMEZONE
TZID:UTC
BEGIN:STANDARD
TZOFFSETFROM:+0000
TZOFFSETTO:+0000
TZNAME:UTC
DTSTART:20240101T000000
END:STANDARD
END:VTIMEZONE
BEGIN:VEVENT
DTSTART;TZID=UTC:20251202T180000
DTEND;TZID=UTC:20251202T200000
DTSTAMP:20260419T200147
CREATED:20251114T180856Z
LAST-MODIFIED:20251201T190255Z
UID:10000144-1764698400-1764705600@dsswichita.org
SUMMARY:The Community Table Dinner and Conversation - Sunrisers (0-preschool) and new families
DESCRIPTION:Celebrate the season with a warm holiday dinner and meaningful conversation for parents and families of our elementary participants. Together\, we’ll share insights\, discuss challenges and concerns\, and explore hopes for the future of our organization. Your voice is a gift—help us shape a brighter path forward as we gather in community and cheer. \nThis session is for families of the Creators (elementary). Santa will also be available for photos! A kids room will be available with activities and crafts for participants to enjoy while parents and caregivers chat!
URL:https://dsswichita.org/event/communitytablesunrisers25/
LOCATION:DSSW\, 734 S. Washington\, Wichita\, KS\, 67211\, United States
CATEGORIES:Connections,Programs
ATTACH;FMTTYPE=image/png:https://dsswichita.org/wp-content/uploads/2025/11/CommunityTable-Sunrisers.png
ORGANIZER;CN="Down Syndrome Society of Wichita":MAILTO:info@dsswichita.org
END:VEVENT
BEGIN:VEVENT
DTSTART;TZID=UTC:20251203T180000
DTEND;TZID=UTC:20251203T200000
DTSTAMP:20260419T200147
CREATED:20251115T133612Z
LAST-MODIFIED:20251202T223846Z
UID:10000147-1764784800-1764792000@dsswichita.org
SUMMARY:The Community Table: Holiday Dinner and Dialogue- Hutchinson Edition
DESCRIPTION:Celebrate the season with a warm holiday dinner and meaningful conversation for parents and families of our Hutchinson families and those of surrounding areas. Together\, we’ll share insights\, discuss challenges and concerns\, and explore hopes for the future of our organization. Your voice is a gift—help us shape a brighter path forward as we gather in community and cheer. \nThis session is for families. Santa will make an appearance for the kids\, including story time!
URL:https://dsswichita.org/event/communitytablehutch25/
LOCATION:DSSW\, 734 S. Washington\, Wichita\, KS\, 67211\, United States
CATEGORIES:Connections,Programs
ATTACH;FMTTYPE=image/png:https://dsswichita.org/wp-content/uploads/2025/11/Community-Table-Hutchinson.png
ORGANIZER;CN="Down Syndrome Society of Wichita":MAILTO:info@dsswichita.org
END:VEVENT
BEGIN:VEVENT
DTSTART;TZID=UTC:20251208T180000
DTEND;TZID=UTC:20251208T200000
DTSTAMP:20260419T200147
CREATED:20251115T130838Z
LAST-MODIFIED:20251115T130838Z
UID:10000146-1765216800-1765224000@dsswichita.org
SUMMARY:The Community Table: Holiday Dinner and Dialogue- Garden City and Dodge City Edition
DESCRIPTION:Celebrate the season with a warm holiday dinner and meaningful conversation for parents and families of our Garden City and Dodge City participants. Together\, we’ll share insights\, discuss challenges and concerns\, and explore hopes for the future of our organization. Your voice is a gift—help us shape a brighter path forward as we gather in community and cheer. \nThis session is for families.
URL:https://dsswichita.org/event/communitytablegc25/
LOCATION:KS
CATEGORIES:Connections,Programs
ATTACH;FMTTYPE=image/png:https://dsswichita.org/wp-content/uploads/2025/11/Community-Table-GardenCity.png
ORGANIZER;CN="Down Syndrome Society of Wichita":MAILTO:info@dsswichita.org
END:VEVENT
BEGIN:VEVENT
DTSTART;TZID=UTC:20251209T180000
DTEND;TZID=UTC:20251209T200000
DTSTAMP:20260419T200147
CREATED:20251114T185220Z
LAST-MODIFIED:20251114T185220Z
UID:10000145-1765303200-1765310400@dsswichita.org
SUMMARY:The Community Table Dinner and Conversation - Creators (elementary-aged)
DESCRIPTION:Celebrate the season with a warm holiday dinner and meaningful conversation for parents and families of our elementary participants. Together\, we’ll share insights\, discuss challenges and concerns\, and explore hopes for the future of our organization. Your voice is a gift—help us shape a brighter path forward as we gather in community and cheer. \nThis session is for families of the Creators (elementary). Santa will also be available for photos! A kids room will be available with activities and crafts for participants to enjoy while parents and caregivers chat!
URL:https://dsswichita.org/event/communitytablecreators25/
LOCATION:DSSW\, 734 S. Washington\, Wichita\, KS\, 67211\, United States
CATEGORIES:Connections,Programs
ATTACH;FMTTYPE=image/png:https://dsswichita.org/wp-content/uploads/2025/11/CommunityTable-Creators.png
ORGANIZER;CN="Down Syndrome Society of Wichita":MAILTO:info@dsswichita.org
END:VEVENT
BEGIN:VEVENT
DTSTART;TZID=UTC:20251216T180000
DTEND;TZID=UTC:20251216T200000
DTSTAMP:20260419T200147
CREATED:20251114T175954Z
LAST-MODIFIED:20251114T180038Z
UID:10000143-1765908000-1765915200@dsswichita.org
SUMMARY:The Community Table: Holiday Dinner and Dialogue- Explorers
DESCRIPTION:Celebrate the season with a warm holiday dinner and meaningful conversation for parents and families of our middle and high school participants. Together\, we’ll share insights\, discuss challenges and concerns\, and explore hopes for the future of our organization. Your voice is a gift—help us shape a brighter path forward as we gather in community and cheer. \nThis session is for families of the Explorers (middle and high school).
URL:https://dsswichita.org/event/communitytableexplorers25/
LOCATION:DSSW\, 734 S. Washington\, Wichita\, KS\, 67211\, United States
CATEGORIES:Connections,Programs
ATTACH;FMTTYPE=image/png:https://dsswichita.org/wp-content/uploads/2025/11/CommunityTable-Explorers.png
ORGANIZER;CN="Down Syndrome Society of Wichita":MAILTO:info@dsswichita.org
END:VEVENT
BEGIN:VEVENT
DTSTART;TZID=UTC:20251218T180000
DTEND;TZID=UTC:20251218T200000
DTSTAMP:20260419T200147
CREATED:20251114T165706Z
LAST-MODIFIED:20251114T165706Z
UID:10000142-1766080800-1766088000@dsswichita.org
SUMMARY:The Community Table: Holiday Dinner and Dialogue- Stars Session (18+)
DESCRIPTION:Celebrate the season with a warm holiday dinner and meaningful conversation for parents and families of our adult participants. Together\, we’ll share insights\, discuss challenges and concerns\, and explore hopes for the future of our organization. Your voice is a gift—help us shape a brighter path forward as we gather in community and cheer. \nThis session is for families of the Stars (18 and older).
URL:https://dsswichita.org/event/communitytablestars/
LOCATION:DSSW\, 734 S. Washington\, Wichita\, KS\, 67211\, United States
CATEGORIES:Connections,Programs
ATTACH;FMTTYPE=image/png:https://dsswichita.org/wp-content/uploads/2025/11/Green-and-Red-Colorful-Illustrative-Christmas-Dinner-Poster.png
ORGANIZER;CN="Down Syndrome Society of Wichita":MAILTO:info@dsswichita.org
END:VEVENT
END:VCALENDAR