BEGIN:VCALENDAR
VERSION:2.0
PRODID:-//Down Syndrome Society of Wichita - ECPv6.15.20//NONSGML v1.0//EN
CALSCALE:GREGORIAN
METHOD:PUBLISH
X-WR-CALNAME:Down Syndrome Society of Wichita
X-ORIGINAL-URL:https://dsswichita.org
X-WR-CALDESC:Events for Down Syndrome Society of Wichita
REFRESH-INTERVAL;VALUE=DURATION:PT1H
X-Robots-Tag:noindex
X-PUBLISHED-TTL:PT1H
BEGIN:VTIMEZONE
TZID:UTC
BEGIN:STANDARD
TZOFFSETFROM:+0000
TZOFFSETTO:+0000
TZNAME:UTC
DTSTART:20240101T000000
END:STANDARD
END:VTIMEZONE
BEGIN:VEVENT
DTSTART;TZID=UTC:20251204T183000
DTEND;TZID=UTC:20251204T200000
DTSTAMP:20260421T002358
CREATED:20251114T134804Z
LAST-MODIFIED:20251114T134913Z
UID:10000141-1764873000-1764878400@dsswichita.org
SUMMARY:Sip\, Sip\, Hooray Volunteer Celebration
DESCRIPTION:We’re so thankful for volunteers who make an impact! Join us for a volunteer celebration in honor of YOU!! Join us for dirty sodas\, mocktails and heavy appetizers to celebrate our wonderful volunteers who give with heart!
URL:https://dsswichita.org/event/volunteers25/
LOCATION:DSSW\, 734 S. Washington\, Wichita\, KS\, 67211\, United States
CATEGORIES:Special Events
ATTACH;FMTTYPE=image/png:https://dsswichita.org/wp-content/uploads/2025/11/Sip-Sip-Hooray.png
ORGANIZER;CN="Down Syndrome Society of Wichita":MAILTO:info@dsswichita.org
END:VEVENT
END:VCALENDAR